BEGIN:VCALENDAR
VERSION:2.0
PRODID:-//Leiston Amateur Radio Club - ECPv5.1.6//NONSGML v1.0//EN
CALSCALE:GREGORIAN
METHOD:PUBLISH
X-WR-CALNAME:Leiston Amateur Radio Club
X-ORIGINAL-URL:http://www.larc.org.uk
X-WR-CALDESC:Events for Leiston Amateur Radio Club
BEGIN:VTIMEZONE
TZID:Europe/London
BEGIN:DAYLIGHT
TZOFFSETFROM:+0000
TZOFFSETTO:+0100
TZNAME:BST
DTSTART:20200329T010000
END:DAYLIGHT
BEGIN:STANDARD
TZOFFSETFROM:+0100
TZOFFSETTO:+0000
TZNAME:GMT
DTSTART:20201025T010000
END:STANDARD
END:VTIMEZONE
BEGIN:VEVENT
DTSTART;TZID=Europe/London:20200211T193000
DTEND;TZID=Europe/London:20200211T213000
DTSTAMP:20260421T101626
CREATED:20200123T210953Z
LAST-MODIFIED:20200218T182923Z
UID:786-1581449400-1581456600@www.larc.org.uk
SUMMARY:Baluns What they are and how they work?
DESCRIPTION:sdr\nsdr\n Baluns?\nHello LARC remembers. Please feel free to offer any helpful comments on this posting as first time editing this site. \nOur first talk this year is\, as above\, Baluns on February the 11th Quaker Meeting House 1930hrs. \nPlease try to join us\, as this will be a very good talk by Rod\, G3RTB\, and I am very keen to learn how these things help our antennas\, as I am sure are many of you too. \nLook forward to see many of you there. 73s for now Vaughn \nMany thanks Rod\, G3RTB. Can’t wait for the next talk. 🙂
URL:http://www.larc.org.uk/event/baluns-what-they-are-and-how-they-work/
LOCATION:Quaker Meeting House\, Waterloo Avenue\, Leiston\, Suffolk\, IP16 4HE
END:VEVENT
END:VCALENDAR